BEGIN:VCALENDAR
VERSION:2.0
PRODID:-//KDAO Radio - ECPv4.9.3.1//NONSGML v1.0//EN
CALSCALE:GREGORIAN
METHOD:PUBLISH
X-WR-CALNAME:KDAO Radio
X-ORIGINAL-URL:https://kdao.com
X-WR-CALDESC:Events for KDAO Radio
BEGIN:VEVENT
DTSTART;VALUE=DATE:20150627
DTEND;VALUE=DATE:20150628
DTSTAMP:20260421T123142
CREATED:20150504T162645Z
LAST-MODIFIED:20150505T162032Z
UID:44206-1435363200-1435449599@kdao.com
SUMMARY:Buckeye - 2015 Buckeye Day
DESCRIPTION:Buckeye Day 2015 \nJune 27th \n\n\n10:30am\n11:30am – 1:30pm\n11:30am – 3:30pm\n1:30pm\n3:30pm \n\n\n\nParade\nFire Department Free Will Donation Meal\nFree Kids Games With Prizes\nKids Pedal Tractor Pull\nKids Water Fights Followed By Adult Water Fights \n\n\n\n\n \n
URL:https://kdao.com/event/2015-buckeye-day/
LOCATION:Unnamed Venue\, Buckeye\, IA
CATEGORIES:Summer Fun
ATTACH;FMTTYPE=image/jpeg:https://kdao.com/wp-content/uploads/2013/05/balloonsjw.jpg
END:VEVENT
END:VCALENDAR