BEGIN:VCALENDAR
VERSION:2.0
PRODID:-//KDAO Radio - ECPv4.9.3.1//NONSGML v1.0//EN
CALSCALE:GREGORIAN
METHOD:PUBLISH
X-WR-CALNAME:KDAO Radio
X-ORIGINAL-URL:https://kdao.com
X-WR-CALDESC:Events for KDAO Radio
BEGIN:VEVENT
DTSTART;TZID=America/Chicago:20150722T163000
DTEND;TZID=America/Chicago:20150722T180000
DTSTAMP:20260421T144320
CREATED:20150506T153853Z
LAST-MODIFIED:20150506T154354Z
UID:44293-1437582600-1437588000@kdao.com
SUMMARY:Albion Library Bicycle Rodeo
DESCRIPTION:July 22 \n4:30 p.m.—Enjoy The Albion Bicycle Rodeo At The Albion Library \n
URL:https://kdao.com/event/albion-library-bicycle-rodeo/
LOCATION:Unnamed Venue\, Albion\, IA
CATEGORIES:Summer Fun
ATTACH;FMTTYPE=image/jpeg:https://kdao.com/wp-content/uploads/2013/05/booksJPG1.jpg
END:VEVENT
END:VCALENDAR