BEGIN:VCALENDAR
VERSION:2.0
PRODID:-//KDAO Radio - ECPv4.9.3.1//NONSGML v1.0//EN
CALSCALE:GREGORIAN
METHOD:PUBLISH
X-WR-CALNAME:KDAO Radio
X-ORIGINAL-URL:https://kdao.com
X-WR-CALDESC:Events for KDAO Radio
BEGIN:VEVENT
DTSTART;TZID=America/Chicago:20190626T113000
DTEND;TZID=America/Chicago:20190626T123000
DTSTAMP:20260424T153223
CREATED:20160513T153233Z
LAST-MODIFIED:20190530T144848Z
UID:46765-1561548600-1561552200@kdao.com
SUMMARY:Albion Library Potluck
DESCRIPTION: POTLUCK at the Library! Come Share a Meal! \n Jun 26\, 2019  \n11:30 a.m. to 12:30 p.m.  \nBring a dish to share along with friendships and conversation!  \nAsk a neighbor to join you! \n  \n
URL:https://kdao.com/event/albion-library-blank-park-zoo-the-lib-2/
CATEGORIES:Summer Fun
ATTACH;FMTTYPE=image/jpeg:https://kdao.com/wp-content/uploads/2013/05/booksJPG1.jpg
END:VEVENT
END:VCALENDAR