BEGIN:VCALENDAR
VERSION:2.0
PRODID:-//KDAO Radio - ECPv4.9.3.1//NONSGML v1.0//EN
CALSCALE:GREGORIAN
METHOD:PUBLISH
X-WR-CALNAME:KDAO Radio
X-ORIGINAL-URL:https://kdao.com
X-WR-CALDESC:Events for KDAO Radio
BEGIN:VEVENT
DTSTART;TZID=America/Chicago:20190624T150000
DTEND;TZID=America/Chicago:20190624T170000
DTSTAMP:20260424T155626
CREATED:20160513T153400Z
LAST-MODIFIED:20190530T144424Z
UID:46766-1561388400-1561395600@kdao.com
SUMMARY:Albion Library Movie Afternoon
DESCRIPTION: Monday: Galaxy Of Movies  \nJun 24\, 2019  \n3:00 p.m. to 5:00 p.m.  \nThis weeks clues. Might be viewers choice…Option 1: 1977 George Lucas film and is regarded as one of the most important films in the history of motion pictures! Actors…Harrison Ford and Carrie Fisher. Probably don’t need any more hints! Option 2: 2009 Space Opera directed by J.J. Abrams; Based on a television series; Characters… James T. K___ and S_____ \n  \n
URL:https://kdao.com/event/albion-library-movie-afternoon-7/
CATEGORIES:Summer Fun
ATTACH;FMTTYPE=image/jpeg:https://kdao.com/wp-content/uploads/2013/05/booksJPG1.jpg
END:VEVENT
END:VCALENDAR