BEGIN:VCALENDAR
VERSION:2.0
PRODID:-//KDAO Radio - ECPv4.9.3.1//NONSGML v1.0//EN
CALSCALE:GREGORIAN
METHOD:PUBLISH
X-WR-CALNAME:KDAO Radio
X-ORIGINAL-URL:https://kdao.com
X-WR-CALDESC:Events for KDAO Radio
BEGIN:VEVENT
DTSTART;TZID=America/Chicago:20170808T140000
DTEND;TZID=America/Chicago:20170808T160000
DTSTAMP:20260424T173200
CREATED:20170509T161445Z
LAST-MODIFIED:20170509T161445Z
UID:52148-1502200800-1502208000@kdao.com
SUMMARY:Albion Library Special Program
DESCRIPTION:August 8 \nSpecial Program With Mary Jo Baitinger At 2 p.m. \n
URL:https://kdao.com/event/albion-library-special-program/
CATEGORIES:Summer Fun
ATTACH;FMTTYPE=image/jpeg:https://kdao.com/wp-content/uploads/2013/05/booksJPG1.jpg
END:VEVENT
END:VCALENDAR