BEGIN:VCALENDAR
VERSION:2.0
PRODID:-//KDAO Radio - ECPv4.9.3.1//NONSGML v1.0//EN
CALSCALE:GREGORIAN
METHOD:PUBLISH
X-WR-CALNAME:KDAO Radio
X-ORIGINAL-URL:https://kdao.com
X-WR-CALDESC:Events for KDAO Radio
BEGIN:VEVENT
DTSTART;TZID=America/Chicago:20140721T170000
DTEND;TZID=America/Chicago:20140721T190000
DTSTAMP:20260424T224441
CREATED:20140603T122247Z
LAST-MODIFIED:20140603T122620Z
UID:42313-1405962000-1405969200@kdao.com
SUMMARY:Albion Library Travelogue Series
DESCRIPTION:Garry Brandenburg Presents Aerial Photography Of The Area July 21st At 5 p.m. \n
URL:https://kdao.com/event/albion-library-travelogue-series-2/
LOCATION:Unnamed Venue\, Albion\, IA\, United States
CATEGORIES:Summer Fun
ATTACH;FMTTYPE=image/jpeg:https://kdao.com/wp-content/uploads/2013/05/booksJPG.jpg
END:VEVENT
END:VCALENDAR