BEGIN:VCALENDAR
VERSION:2.0
PRODID:-//KDAO Radio - ECPv4.9.3.1//NONSGML v1.0//EN
CALSCALE:GREGORIAN
METHOD:PUBLISH
X-WR-CALNAME:KDAO Radio
X-ORIGINAL-URL:https://kdao.com
X-WR-CALDESC:Events for KDAO Radio
BEGIN:VEVENT
DTSTART;VALUE=DATE:20140729
DTEND;VALUE=DATE:20140730
DTSTAMP:20260425T003934
CREATED:20140707T194823Z
LAST-MODIFIED:20140707T194823Z
UID:42537-1406592000-1406678399@kdao.com
SUMMARY:Albion Library Travelogue Series
DESCRIPTION:“Talespinner & Troubadour” Darrin Crow will provide a session covering 2 Iowan inventors – Art Collins\, founder of Rockwell-Collins Internat’l\, Cedar Rapids & George Nissen\, inventor of the mini trampoline from Blairstown\, IA. \n
URL:https://kdao.com/event/albion-library-travelogue-series-5/
LOCATION:Unnamed Venue\, Albion\, IA\, United States
CATEGORIES:Summer Fun
ATTACH;FMTTYPE=image/jpeg:https://kdao.com/wp-content/uploads/2013/05/booksJPG.jpg
END:VEVENT
END:VCALENDAR