BEGIN:VCALENDAR
VERSION:2.0
PRODID:-//KDAO Radio - ECPv4.9.3.1//NONSGML v1.0//EN
CALSCALE:GREGORIAN
METHOD:PUBLISH
X-WR-CALNAME:KDAO Radio
X-ORIGINAL-URL:https://kdao.com
X-WR-CALDESC:Events for KDAO Radio
BEGIN:VEVENT
DTSTART;TZID=America/Chicago:20190731T113000
DTEND;TZID=America/Chicago:20190731T123000
DTSTAMP:20260421T025358
CREATED:20180703T001740Z
LAST-MODIFIED:20190530T151714Z
UID:58337-1564572600-1564576200@kdao.com
SUMMARY:Albion Library Area Potluck
DESCRIPTION: Area Potluck!  \n Jul 31\, 2019  \n11:30 am to 12:30 pm \nIt’s Lunch Time! Bring a dish to share and join your neighbors for a potluck lunch! \n  \n
URL:https://kdao.com/event/albion-summer-library-events-calendar-2018-week-of-july-17th-thru-24th/
CATEGORIES:Summer Fun
ATTACH;FMTTYPE=image/jpeg:https://kdao.com/wp-content/uploads/2013/05/booksJPG.jpg
END:VEVENT
END:VCALENDAR