BEGIN:VCALENDAR
VERSION:2.0
PRODID:-//KDAO Radio - ECPv4.9.3.1//NONSGML v1.0//EN
CALSCALE:GREGORIAN
METHOD:PUBLISH
X-WR-CALNAME:KDAO Radio
X-ORIGINAL-URL:https://kdao.com
X-WR-CALDESC:Events for KDAO Radio
BEGIN:VEVENT
DTSTART;TZID=America/Chicago:20150726T140000
DTEND;TZID=America/Chicago:20150726T160000
DTSTAMP:20260425T003804
CREATED:20150505T192820Z
LAST-MODIFIED:20150505T192820Z
UID:44276-1437919200-1437926400@kdao.com
SUMMARY:Colo - Classic Car Roll In
DESCRIPTION:July 26th \nEnjoy The Classic Cars At Historic Reed-Niland Corner In Colo From 2 – 4 p.m.   All Cars Welcome! \n
URL:https://kdao.com/event/colo-classic-car-roll-in-4/
LOCATION:Unnamed Venue\, Colo\, IA
CATEGORIES:Summer Fun
ATTACH;FMTTYPE=image/jpeg:https://kdao.com/wp-content/uploads/2013/06/car.jpg
END:VEVENT
END:VCALENDAR