BEGIN:VCALENDAR
VERSION:2.0
PRODID:-//KDAO Radio - ECPv4.9.3.1//NONSGML v1.0//EN
CALSCALE:GREGORIAN
METHOD:PUBLISH
X-WR-CALNAME:KDAO Radio
X-ORIGINAL-URL:https://kdao.com
X-WR-CALDESC:Events for KDAO Radio
BEGIN:VEVENT
DTSTART;TZID=America/Chicago:20150829T080000
DTEND;TZID=America/Chicago:20150829T140000
DTSTAMP:20260425T023042
CREATED:20140806T193611Z
LAST-MODIFIED:20150514T160738Z
UID:42739-1440835200-1440856800@kdao.com
SUMMARY:Conrad---Taste Iowa
DESCRIPTION:August 29 \nEnjoy Iowa Produced Products In Grundy Center From 8 a.m. – 2 p.m. \n  \n
URL:https://kdao.com/event/conrad-taste-iowa/
LOCATION:Unnamed Venue\, Conrad\, IA\, United States
CATEGORIES:Summer Fun
ATTACH;FMTTYPE=image/png:https://kdao.com/wp-content/uploads/2014/08/taste-iowa2014.png
END:VEVENT
END:VCALENDAR