BEGIN:VCALENDAR
VERSION:2.0
PRODID:-//KDAO Radio - ECPv4.9.3.1//NONSGML v1.0//EN
CALSCALE:GREGORIAN
METHOD:PUBLISH
X-WR-CALNAME:KDAO Radio
X-ORIGINAL-URL:https://kdao.com
X-WR-CALDESC:Events for KDAO Radio
BEGIN:VEVENT
DTSTART;TZID=America/Chicago:20251004T170000
DTEND;TZID=America/Chicago:20251004T220000
DTSTAMP:20260421T220643
CREATED:20180605T192042Z
LAST-MODIFIED:20250930T113120Z
UID:57972-1759597200-1759615200@kdao.com
SUMMARY:Eldora - Hardin County Farm Museum Barn Dance
DESCRIPTION:  \n \n​ \nPANCAKE BREAKFASTS (click here for printable flier) \nServing 7:00 – 9:30 am  \nAll you can eat!  \nFreewill donation \nSeptember 6th \n
URL:https://kdao.com/event/eldora-hardin-county-farm-museum-barn-dance/
CATEGORIES:Summer Fun
ATTACH;FMTTYPE=image/jpeg:https://kdao.com/wp-content/uploads/2013/05/hardin-county-farm-museum.jpeg
END:VEVENT
END:VCALENDAR