BEGIN:VCALENDAR
VERSION:2.0
PRODID:-//KDAO Radio - ECPv4.9.3.1//NONSGML v1.0//EN
CALSCALE:GREGORIAN
METHOD:PUBLISH
X-WR-CALNAME:KDAO Radio
X-ORIGINAL-URL:https://kdao.com
X-WR-CALDESC:Events for KDAO Radio
BEGIN:VEVENT
DTSTART;TZID=America/Chicago:20190828T190000
DTEND;TZID=America/Chicago:20190828T200000
DTSTAMP:20260422T033206
CREATED:20180703T005154Z
LAST-MODIFIED:20190605T213856Z
UID:58362-1567018800-1567022400@kdao.com
SUMMARY:Garwin Summer Entertainment In The Park
DESCRIPTION:August 28th   7 – 8 p.m.  Backporch Pickers \n
URL:https://kdao.com/event/garwin-summer-entertainment-august-14/
CATEGORIES:Summer Fun
ATTACH;FMTTYPE=image/jpeg:https://kdao.com/wp-content/uploads/2013/05/3-guitars.jpg
END:VEVENT
END:VCALENDAR