BEGIN:VCALENDAR
VERSION:2.0
PRODID:-//KDAO Radio - ECPv4.9.3.1//NONSGML v1.0//EN
CALSCALE:GREGORIAN
METHOD:PUBLISH
X-WR-CALNAME:KDAO Radio
X-ORIGINAL-URL:https://kdao.com
X-WR-CALDESC:Events for KDAO Radio
BEGIN:VEVENT
DTSTART;TZID=America/Chicago:20220826T110000
DTEND;TZID=America/Chicago:20220827T000000
DTSTAMP:20260424T160238
CREATED:20220822T110308Z
LAST-MODIFIED:20220822T110308Z
UID:71188-1661511600-1661558400@kdao.com
SUMMARY:Lincoln Highway Days (Nevada)
DESCRIPTION:CLICK HERE FOR MORE INFO \n  \n \n
URL:https://kdao.com/event/lincoln-highway-days-nevada/
CATEGORIES:Summer Fun
ATTACH;FMTTYPE=image/jpeg:https://kdao.com/wp-content/uploads/2022/08/LHD-Schedule-of-Events-Poster-2022-01.jpg
END:VEVENT
END:VCALENDAR