BEGIN:VCALENDAR
VERSION:2.0
PRODID:-//KDAO Radio - ECPv4.9.3.1//NONSGML v1.0//EN
CALSCALE:GREGORIAN
METHOD:PUBLISH
X-WR-CALNAME:KDAO Radio
X-ORIGINAL-URL:https://kdao.com
X-WR-CALDESC:Events for KDAO Radio
BEGIN:VEVENT
DTSTART;VALUE=DATE:20170617
DTEND;VALUE=DATE:20170618
DTSTAMP:20260424T190816
CREATED:20170510T142943Z
LAST-MODIFIED:20170510T142943Z
UID:52174-1497657600-1497743999@kdao.com
SUMMARY:Marshalltown 6th Annual SkateparkFest
DESCRIPTION:The Sixth Annual SkateparkFest will be at the Skatepark\, Saturday\, June 17\, beginning at 1:00pm. \nThe Park consists of 4′ quarter and half pipes with bank ramps; 3′ spine; pyramid corner; flat wedge; stairs; grindbox; rail; bench. The all steel elements are available for both skateboards and bikes. \n
URL:https://kdao.com/event/marshalltown-6th-annual-skateparkfest/
CATEGORIES:Summer Fun
ATTACH;FMTTYPE=image/jpeg:https://kdao.com/wp-content/uploads/2013/05/skateboard.jpg
END:VEVENT
END:VCALENDAR