BEGIN:VCALENDAR
VERSION:2.0
PRODID:-//KDAO Radio - ECPv4.9.3.1//NONSGML v1.0//EN
CALSCALE:GREGORIAN
METHOD:PUBLISH
X-WR-CALNAME:KDAO Radio
X-ORIGINAL-URL:https://kdao.com
X-WR-CALDESC:Events for KDAO Radio
BEGIN:VEVENT
DTSTART;TZID=America/Chicago:20230608T170000
DTEND;TZID=America/Chicago:20230608T190000
DTSTAMP:20260424T175419
CREATED:20180605T151654Z
LAST-MODIFIED:20230607T140636Z
UID:57939-1686243600-1686250800@kdao.com
SUMMARY:Marshalltown--Cruise For A Cause
DESCRIPTION:Cruise for a Cause\nJoin us at Glenwood Place for a fundraiser for the Alzheimer’s Association. A night of hot dogs and hot rods. If you own a classic car\, are an admirer\, or would like to make a contribution to the Alzheimer’s Association\, come out to Glenwood Place for a fun evening. Hot dogs\, chips\, beverages\, ice cream and popcorn will be served. All free will donation and 100% of the proceeds will go directly to the Alzheimer’s Association. No Entry Fee\, No Registration\, All Classic Cars Welcome! For more information\, contact Brooke at 641-752-8410. \n
URL:https://kdao.com/event/marshalltown-cruise-for-a-cause/
CATEGORIES:Summer Fun
ATTACH;FMTTYPE=image/jpeg:https://kdao.com/wp-content/uploads/2013/06/car.jpg
END:VEVENT
END:VCALENDAR