BEGIN:VCALENDAR
VERSION:2.0
PRODID:-//KDAO Radio - ECPv4.9.3.1//NONSGML v1.0//EN
CALSCALE:GREGORIAN
METHOD:PUBLISH
X-WR-CALNAME:KDAO Radio
X-ORIGINAL-URL:https://kdao.com
X-WR-CALDESC:Events for KDAO Radio
BEGIN:VEVENT
DTSTART;TZID=America/Chicago:20170708T080000
DTEND;TZID=America/Chicago:20170708T110000
DTSTAMP:20260419T134215
CREATED:20140603T194730Z
LAST-MODIFIED:20170511T140544Z
UID:42369-1499500800-1499511600@kdao.com
SUMMARY:Marshalltown--Grimes Farm Run
DESCRIPTION:July 8th \nGrimes Farm Run…A Walk in the Park\n\n\n8 a.m. \nCross Country 5K\, 8.77K\, 1.6M Run/Walk\nKids’ Races\n$100 prizes for 1st place male and female in 5K and 8K\n$50 prizes for 2nd place male and female in 5K and 8K \n\n\n
URL:https://kdao.com/event/marshalltown-grimes-farm-fun/
LOCATION:Unnamed Venue\, Marshalltown\, IA\, United States
CATEGORIES:Summer Fun
ATTACH;FMTTYPE=image/jpeg:https://kdao.com/wp-content/uploads/2013/05/mtwn-courthouse.jpg
END:VEVENT
END:VCALENDAR