BEGIN:VCALENDAR
VERSION:2.0
PRODID:-//KDAO Radio - ECPv4.9.3.1//NONSGML v1.0//EN
CALSCALE:GREGORIAN
METHOD:PUBLISH
X-WR-CALNAME:KDAO Radio
X-ORIGINAL-URL:https://kdao.com
X-WR-CALDESC:Events for KDAO Radio
BEGIN:VEVENT
DTSTART;TZID=America/Chicago:20180610T100000
DTEND;TZID=America/Chicago:20180610T180000
DTSTAMP:20260424T212122
CREATED:20180602T140654Z
LAST-MODIFIED:20180602T140654Z
UID:57899-1528624800-1528653600@kdao.com
SUMMARY:MARSHALLTOWN--OUTLAW RUMBLE
DESCRIPTION:Outlaw Rumble \nSunday\, June 10th \n10 am – 6 pm \nRiverview Park\, Marshalltown \nMultiple classes–Open to all cars–Everyone votes \nPrizes \n$25 pre-register/t shirt  $20 at the show \n
URL:https://kdao.com/event/marshalltown-outlaw-rumble/
LOCATION:Riverview Park\, Marshalltown\, IA\, United States
CATEGORIES:Summer Fun
ATTACH;FMTTYPE=image/jpeg:https://kdao.com/wp-content/uploads/2013/06/car.jpg
END:VEVENT
END:VCALENDAR