BEGIN:VCALENDAR
VERSION:2.0
PRODID:-//KDAO Radio - ECPv4.9.3.1//NONSGML v1.0//EN
CALSCALE:GREGORIAN
METHOD:PUBLISH
X-WR-CALNAME:KDAO Radio
X-ORIGINAL-URL:https://kdao.com
X-WR-CALDESC:Events for KDAO Radio
BEGIN:VEVENT
DTSTART;VALUE=DATE:20250620
DTEND;VALUE=DATE:20250623
DTSTAMP:20260420T093708
CREATED:20180607T154608Z
LAST-MODIFIED:20250611T115422Z
UID:58041-1750377600-1750636799@kdao.com
SUMMARY:NEW PROVIDENCE HERITAGE FESTIVAL
DESCRIPTION:CLICK HERE FOR UPDATED INFO \n
URL:https://kdao.com/event/new-providence-heritage-festival-2/
CATEGORIES:Summer Fun
ATTACH;FMTTYPE=image/jpeg:https://kdao.com/wp-content/uploads/2018/06/new-providence-heritage-festival-5.jpg
END:VEVENT
END:VCALENDAR