BEGIN:VCALENDAR
VERSION:2.0
PRODID:-//KDAO Radio - ECPv4.9.3.1//NONSGML v1.0//EN
CALSCALE:GREGORIAN
METHOD:PUBLISH
X-WR-CALNAME:KDAO Radio
X-ORIGINAL-URL:https://kdao.com
X-WR-CALDESC:Events for KDAO Radio
BEGIN:VEVENT
DTSTART;TZID=America/Chicago:20150620T200000
DTEND;TZID=America/Chicago:20150620T230000
DTSTAMP:20260421T155203
CREATED:20150513T195544Z
LAST-MODIFIED:20150513T195544Z
UID:44389-1434830400-1434841200@kdao.com
SUMMARY:Reinbeck--Movies And More
DESCRIPTION:June 20\, 2015\nShowing: The Goonies\nReinbeck Aquatic Center\nActivity starts at 8PM\nMovie Starts at 8:30PM \n
URL:https://kdao.com/event/reinbeck-movies-and-more/
LOCATION:Unnamed Venue\, Reinbeck\, IA
CATEGORIES:Summer Fun
ATTACH;FMTTYPE=image/jpeg:https://kdao.com/wp-content/uploads/2013/05/film-reelsmall.jpg
END:VEVENT
END:VCALENDAR