BEGIN:VCALENDAR
VERSION:2.0
PRODID:-//KDAO Radio - ECPv4.9.3.1//NONSGML v1.0//EN
CALSCALE:GREGORIAN
METHOD:PUBLISH
X-WR-CALNAME:KDAO Radio
X-ORIGINAL-URL:https://kdao.com
X-WR-CALDESC:Events for KDAO Radio
BEGIN:VEVENT
DTSTART;TZID=America/Chicago:20170811T200000
DTEND;TZID=America/Chicago:20170811T213000
DTSTAMP:20260424T224129
CREATED:20170602T194208Z
LAST-MODIFIED:20170602T194208Z
UID:52895-1502481600-1502487000@kdao.com
SUMMARY:Star Gazing
DESCRIPTION:Friday\, August 11th\n8:15pm\nDean Memorial Observatory\nGreen Castle Recreation Area\n1 mi. S of Ferguson\n“Total Solar Eclipse” \nThe Amateur Astronomers of Central Iowa invite the public for a telescopic view of the night sky. For more information contact Jim Bonser at (641)751-8744 or visit their website http://www.iowaastronomy.com \n
URL:https://kdao.com/event/star-gazing-2/
CATEGORIES:Summer Fun
ATTACH;FMTTYPE=image/png:https://kdao.com/wp-content/uploads/2013/06/Summer-Fun-Logo-2-e1370634121946.png
END:VEVENT
END:VCALENDAR