BEGIN:VCALENDAR
VERSION:2.0
PRODID:-//KDAO Radio - ECPv4.9.3.1//NONSGML v1.0//EN
CALSCALE:GREGORIAN
METHOD:PUBLISH
X-WR-CALNAME:KDAO Radio
X-ORIGINAL-URL:https://kdao.com
X-WR-CALDESC:Events for KDAO Radio
BEGIN:VEVENT
DTSTART;VALUE=DATE:20150905
DTEND;VALUE=DATE:20150907
DTSTAMP:20260425T004115
CREATED:20140703T120318Z
LAST-MODIFIED:20150817T193340Z
UID:42525-1441411200-1441583999@kdao.com
SUMMARY:Steamboat Rock--43rd Annual Fall Rendezvous
DESCRIPTION:Smokey Ridge Muzzleloaders 43rd Annual Fall Rendezvous \nSeptember 5-7\, 2015 \nCome step back in time and join the Smokey Ridge Muzzleloaders for their 43rd Annual Fall Rendezvous.  You can get a feel of what it was like to be a mountain man in the early 1800s.  Event will take place at the Setchell Area at 17001 V Ave. north of Steamboat Rock\, IA. \nMany competitions including shoots\, hawk & knife throws\, and children’s activities!  Plus\, lots of traders.  Firewood and water provided\, plus no camp fees!  There’s a hog roast/potluck for campers and traders. \nOpen to the public Saturday 9:00 am – 5:00 pm\, Sunday 9:00 am –  5:00 pm. \n  \n  \n  \n  \n  \n
URL:https://kdao.com/event/steamboat-rock-42nd-annual-fall-rendezvous/
LOCATION:Unnamed Venue\, Steamboat Rock\, IA\, United States
CATEGORIES:Summer Fun
ATTACH;FMTTYPE=image/jpeg:https://kdao.com/wp-content/uploads/2013/05/steamboatrock-signsmall.jpg
END:VEVENT
END:VCALENDAR